BEGIN:VCALENDAR
VERSION:2.0
PRODID:-//Machynys Peninsula Golf Club and Premier Spa - ECPv6.15.20//NONSGML v1.0//EN
CALSCALE:GREGORIAN
METHOD:PUBLISH
X-ORIGINAL-URL:https://www.machynys.com
X-WR-CALDESC:Events for Machynys Peninsula Golf Club and Premier Spa
REFRESH-INTERVAL;VALUE=DURATION:PT1H
X-Robots-Tag:noindex
X-PUBLISHED-TTL:PT1H
BEGIN:VTIMEZONE
TZID:UTC
BEGIN:STANDARD
TZOFFSETFROM:+0000
TZOFFSETTO:+0000
TZNAME:UTC
DTSTART:20230101T000000
END:STANDARD
END:VTIMEZONE
BEGIN:VEVENT
DTSTART;VALUE=DATE:20250130
DTEND;VALUE=DATE:20250131
DTSTAMP:20260424T131330
CREATED:20250112T224112Z
LAST-MODIFIED:20250121T124415Z
UID:8783-1738195200-1738281599@www.machynys.com
SUMMARY:INDIAN CUISINE  - Thursday 30th January\, 2025
DESCRIPTION:Spice Up Your Life – Indian Cuisine Night! ️\nDate: January 30th\nPrice: £50 for two \nEmbark on a flavor-packed journey through India with 10 unique\, mouthwatering dishes\, lovingly curated by our award-winning head chef\, Bilal. From bold spices to irresistible aromas\, your taste buds are in for a treat! \nBring a friend and let us transport you to the heart of India – all for just £50 for two. \nBOOK NOW
URL:https://www.machynys.com/event/this-is-a-test-for-fb/
LOCATION:Fredricks Bar & Restaurant
CATEGORIES:Fredricks Bar & Restaurant
ATTACH;FMTTYPE=image/jpeg:https://www.machynys.com/wp-content/uploads/2025/01/IMG_5688.jpg
END:VEVENT
BEGIN:VEVENT
DTSTART;TZID=UTC:20250123T080000
DTEND;TZID=UTC:20250123T170000
DTSTAMP:20260424T131330
CREATED:20250112T224904Z
LAST-MODIFIED:20250121T120915Z
UID:8785-1737619200-1737651600@www.machynys.com
SUMMARY:THIS IS ANOTHER TEST.
DESCRIPTION:
URL:https://www.machynys.com/event/this-is-another-test/
CATEGORIES:Fredricks Bar & Restaurant
ATTACH;FMTTYPE=image/png:https://www.machynys.com/wp-content/uploads/2025/01/1.png
END:VEVENT
BEGIN:VEVENT
DTSTART;VALUE=DATE:20241231
DTEND;VALUE=DATE:20250101
DTSTAMP:20260424T131330
CREATED:20240122T131000Z
LAST-MODIFIED:20240122T131000Z
UID:7767-1735603200-1735689599@www.machynys.com
SUMMARY:New Years Eve Competition
DESCRIPTION:
URL:https://www.machynys.com/event/new-years-eve-competition/
CATEGORIES:Club Competition,Ladies Competitions
END:VEVENT
BEGIN:VEVENT
DTSTART;VALUE=DATE:20241229
DTEND;VALUE=DATE:20241230
DTSTAMP:20260424T131330
CREATED:20240122T130931Z
LAST-MODIFIED:20240122T130931Z
UID:7765-1735430400-1735516799@www.machynys.com
SUMMARY:Sunday Stableford
DESCRIPTION:
URL:https://www.machynys.com/event/sunday-stableford-23/
CATEGORIES:Club Competition,Ladies Competitions
END:VEVENT
BEGIN:VEVENT
DTSTART;VALUE=DATE:20241228
DTEND;VALUE=DATE:20241229
DTSTAMP:20260424T131330
CREATED:20240122T130908Z
LAST-MODIFIED:20240122T130908Z
UID:7763-1735344000-1735430399@www.machynys.com
SUMMARY:Christmas Shield
DESCRIPTION:
URL:https://www.machynys.com/event/christmas-shield/
CATEGORIES:Club Competition,Ladies Competitions
END:VEVENT
BEGIN:VEVENT
DTSTART;VALUE=DATE:20241226
DTEND;VALUE=DATE:20241227
DTSTAMP:20260424T131330
CREATED:20240122T130836Z
LAST-MODIFIED:20240122T130836Z
UID:7761-1735171200-1735257599@www.machynys.com
SUMMARY:Boxing Day Competition
DESCRIPTION:
URL:https://www.machynys.com/event/boxing-day-competition/
CATEGORIES:Club Competition,Ladies Competitions
END:VEVENT
BEGIN:VEVENT
DTSTART;VALUE=DATE:20241225
DTEND;VALUE=DATE:20241226
DTSTAMP:20260424T131330
CREATED:20240122T130810Z
LAST-MODIFIED:20240122T130810Z
UID:7759-1735084800-1735171199@www.machynys.com
SUMMARY:COURSE CLOSED - Christmas Day
DESCRIPTION:
URL:https://www.machynys.com/event/course-closed-christmas-day/
END:VEVENT
BEGIN:VEVENT
DTSTART;VALUE=DATE:20241224
DTEND;VALUE=DATE:20241225
DTSTAMP:20260424T131330
CREATED:20240122T130743Z
LAST-MODIFIED:20240122T130743Z
UID:7757-1734998400-1735084799@www.machynys.com
SUMMARY:Christmas Eve Competition
DESCRIPTION:
URL:https://www.machynys.com/event/christmas-eve-competition/
CATEGORIES:Club Competition,Ladies Competitions
END:VEVENT
BEGIN:VEVENT
DTSTART;VALUE=DATE:20241221
DTEND;VALUE=DATE:20241223
DTSTAMP:20260424T131330
CREATED:20240122T130641Z
LAST-MODIFIED:20240122T130641Z
UID:7752-1734739200-1734911999@www.machynys.com
SUMMARY:Winter League Round 12
DESCRIPTION:
URL:https://www.machynys.com/event/winter-league-round-12-2/
CATEGORIES:Club Competition
END:VEVENT
BEGIN:VEVENT
DTSTART;VALUE=DATE:20241221
DTEND;VALUE=DATE:20241222
DTSTAMP:20260424T131330
CREATED:20240122T130716Z
LAST-MODIFIED:20240122T130716Z
UID:7755-1734739200-1734825599@www.machynys.com
SUMMARY:Ladies Competition
DESCRIPTION:
URL:https://www.machynys.com/event/ladies-competition-7/
CATEGORIES:Ladies Competitions
END:VEVENT
BEGIN:VEVENT
DTSTART;VALUE=DATE:20241214
DTEND;VALUE=DATE:20241216
DTSTAMP:20260424T131330
CREATED:20240122T130541Z
LAST-MODIFIED:20240122T130541Z
UID:7748-1734134400-1734307199@www.machynys.com
SUMMARY:Winter League Round 11
DESCRIPTION:
URL:https://www.machynys.com/event/winter-league-round-11/
CATEGORIES:Club Competition
END:VEVENT
BEGIN:VEVENT
DTSTART;VALUE=DATE:20241214
DTEND;VALUE=DATE:20241215
DTSTAMP:20260424T131330
CREATED:20240122T130612Z
LAST-MODIFIED:20240122T130612Z
UID:7750-1734134400-1734220799@www.machynys.com
SUMMARY:Ladies Winter League Round 6
DESCRIPTION:
URL:https://www.machynys.com/event/ladies-winter-league-round-6/
CATEGORIES:Ladies Competitions
END:VEVENT
BEGIN:VEVENT
DTSTART;VALUE=DATE:20241207
DTEND;VALUE=DATE:20241209
DTSTAMP:20260424T131330
CREATED:20240122T130451Z
LAST-MODIFIED:20240122T130451Z
UID:7744-1733529600-1733702399@www.machynys.com
SUMMARY:Winter League Round 10
DESCRIPTION:
URL:https://www.machynys.com/event/winter-league-round-10/
CATEGORIES:Club Competition
END:VEVENT
BEGIN:VEVENT
DTSTART;VALUE=DATE:20241207
DTEND;VALUE=DATE:20241208
DTSTAMP:20260424T131330
CREATED:20240122T130516Z
LAST-MODIFIED:20240122T130516Z
UID:7746-1733529600-1733615999@www.machynys.com
SUMMARY:Ladies Winter League Round 5
DESCRIPTION:
URL:https://www.machynys.com/event/ladies-winter-league-round-5/
CATEGORIES:Ladies Competitions
END:VEVENT
BEGIN:VEVENT
DTSTART;VALUE=DATE:20241130
DTEND;VALUE=DATE:20241202
DTSTAMP:20260424T131330
CREATED:20240122T130241Z
LAST-MODIFIED:20240122T130241Z
UID:7740-1732924800-1733097599@www.machynys.com
SUMMARY:Winter League Round 9
DESCRIPTION:
URL:https://www.machynys.com/event/winter-league-round-9/
CATEGORIES:Club Competition
END:VEVENT
BEGIN:VEVENT
DTSTART;VALUE=DATE:20241130
DTEND;VALUE=DATE:20241201
DTSTAMP:20260424T131330
CREATED:20240122T130343Z
LAST-MODIFIED:20240122T130343Z
UID:7742-1732924800-1733011199@www.machynys.com
SUMMARY:Ladies Competition
DESCRIPTION:
URL:https://www.machynys.com/event/ladies-competition-6/
CATEGORIES:Ladies Competitions
END:VEVENT
BEGIN:VEVENT
DTSTART;VALUE=DATE:20241123
DTEND;VALUE=DATE:20241125
DTSTAMP:20260424T131330
CREATED:20240122T125646Z
LAST-MODIFIED:20240122T125646Z
UID:7736-1732320000-1732492799@www.machynys.com
SUMMARY:Winter League Round 8
DESCRIPTION:
URL:https://www.machynys.com/event/winter-league-round-8/
CATEGORIES:Club Competition
END:VEVENT
BEGIN:VEVENT
DTSTART;VALUE=DATE:20241123
DTEND;VALUE=DATE:20241124
DTSTAMP:20260424T131330
CREATED:20240122T130211Z
LAST-MODIFIED:20240122T130211Z
UID:7738-1732320000-1732406399@www.machynys.com
SUMMARY:Ladies Competition
DESCRIPTION:
URL:https://www.machynys.com/event/ladies-competition-5/
CATEGORIES:Ladies Competitions
END:VEVENT
BEGIN:VEVENT
DTSTART;VALUE=DATE:20241116
DTEND;VALUE=DATE:20241118
DTSTAMP:20260424T131330
CREATED:20240122T125549Z
LAST-MODIFIED:20240122T125549Z
UID:7732-1731715200-1731887999@www.machynys.com
SUMMARY:Winter League Round 7
DESCRIPTION:
URL:https://www.machynys.com/event/winter-league-round-7/
CATEGORIES:Club Competition
END:VEVENT
BEGIN:VEVENT
DTSTART;VALUE=DATE:20241116
DTEND;VALUE=DATE:20241117
DTSTAMP:20260424T131330
CREATED:20240122T125620Z
LAST-MODIFIED:20240122T125620Z
UID:7734-1731715200-1731801599@www.machynys.com
SUMMARY:Ladies Winter League Round 4
DESCRIPTION:
URL:https://www.machynys.com/event/ladies-winter-league-round-4/
CATEGORIES:Ladies Competitions
END:VEVENT
BEGIN:VEVENT
DTSTART;VALUE=DATE:20241109
DTEND;VALUE=DATE:20241111
DTSTAMP:20260424T131330
CREATED:20240122T125409Z
LAST-MODIFIED:20240122T125409Z
UID:7728-1731110400-1731283199@www.machynys.com
SUMMARY:Winter League Round 6
DESCRIPTION:
URL:https://www.machynys.com/event/winter-league-round-6/
CATEGORIES:Club Competition
END:VEVENT
BEGIN:VEVENT
DTSTART;VALUE=DATE:20241109
DTEND;VALUE=DATE:20241110
DTSTAMP:20260424T131330
CREATED:20240122T125519Z
LAST-MODIFIED:20240122T125519Z
UID:7730-1731110400-1731196799@www.machynys.com
SUMMARY:Ladies Winter League Round 3
DESCRIPTION:
URL:https://www.machynys.com/event/ladies-winter-league-round-3/
CATEGORIES:Ladies Competitions
END:VEVENT
BEGIN:VEVENT
DTSTART;VALUE=DATE:20241102
DTEND;VALUE=DATE:20241104
DTSTAMP:20260424T131330
CREATED:20240122T125317Z
LAST-MODIFIED:20240122T125317Z
UID:7724-1730505600-1730678399@www.machynys.com
SUMMARY:Winter League Round 5
DESCRIPTION:
URL:https://www.machynys.com/event/winter-league-round-5/
CATEGORIES:Club Competition
END:VEVENT
BEGIN:VEVENT
DTSTART;VALUE=DATE:20241102
DTEND;VALUE=DATE:20241103
DTSTAMP:20260424T131330
CREATED:20240122T125340Z
LAST-MODIFIED:20240122T125340Z
UID:7726-1730505600-1730591999@www.machynys.com
SUMMARY:Ladies Competition
DESCRIPTION:
URL:https://www.machynys.com/event/ladies-competition-4/
CATEGORIES:Ladies Competitions
END:VEVENT
BEGIN:VEVENT
DTSTART;VALUE=DATE:20241026
DTEND;VALUE=DATE:20241028
DTSTAMP:20260424T131330
CREATED:20240122T125212Z
LAST-MODIFIED:20240122T125212Z
UID:7720-1729900800-1730073599@www.machynys.com
SUMMARY:Winter League Round 4
DESCRIPTION:
URL:https://www.machynys.com/event/winter-league-round-4/
CATEGORIES:Club Competition
END:VEVENT
BEGIN:VEVENT
DTSTART;VALUE=DATE:20241026
DTEND;VALUE=DATE:20241027
DTSTAMP:20260424T131330
CREATED:20240122T125239Z
LAST-MODIFIED:20240122T125239Z
UID:7722-1729900800-1729987199@www.machynys.com
SUMMARY:Ladies Competition
DESCRIPTION:
URL:https://www.machynys.com/event/ladies-competition-3/
CATEGORIES:Ladies Competitions
END:VEVENT
BEGIN:VEVENT
DTSTART;VALUE=DATE:20241019
DTEND;VALUE=DATE:20241021
DTSTAMP:20260424T131330
CREATED:20240122T125000Z
LAST-MODIFIED:20240122T125000Z
UID:7715-1729296000-1729468799@www.machynys.com
SUMMARY:Winter League Round 3
DESCRIPTION:
URL:https://www.machynys.com/event/winter-league-round-3/
CATEGORIES:Club Competition
END:VEVENT
BEGIN:VEVENT
DTSTART;VALUE=DATE:20241019
DTEND;VALUE=DATE:20241020
DTSTAMP:20260424T131330
CREATED:20240122T125039Z
LAST-MODIFIED:20240122T125039Z
UID:7717-1729296000-1729382399@www.machynys.com
SUMMARY:Ladies Winter League Round 2
DESCRIPTION:
URL:https://www.machynys.com/event/ladies-winter-league-round-2/
CATEGORIES:Ladies Competitions
END:VEVENT
BEGIN:VEVENT
DTSTART;VALUE=DATE:20241015
DTEND;VALUE=DATE:20241016
DTSTAMP:20260424T131330
CREATED:20240122T124922Z
LAST-MODIFIED:20240122T124922Z
UID:7713-1728950400-1729036799@www.machynys.com
SUMMARY:Mizuno Pairs
DESCRIPTION:
URL:https://www.machynys.com/event/mizuno-pairs/
CATEGORIES:External Event
END:VEVENT
BEGIN:VEVENT
DTSTART;VALUE=DATE:20241012
DTEND;VALUE=DATE:20241014
DTSTAMP:20260424T131330
CREATED:20240122T124829Z
LAST-MODIFIED:20240122T124829Z
UID:7709-1728691200-1728863999@www.machynys.com
SUMMARY:Winter League Round 2
DESCRIPTION:
URL:https://www.machynys.com/event/winter-league-round-2/
CATEGORIES:Club Competition
END:VEVENT
END:VCALENDAR