BEGIN:VCALENDAR
VERSION:2.0
PRODID:-//Machynys Peninsula Golf Club and Premier Spa - ECPv6.15.20//NONSGML v1.0//EN
CALSCALE:GREGORIAN
METHOD:PUBLISH
X-WR-CALNAME:Machynys Peninsula Golf Club and Premier Spa
X-ORIGINAL-URL:https://www.machynys.com
X-WR-CALDESC:Events for Machynys Peninsula Golf Club and Premier Spa
REFRESH-INTERVAL;VALUE=DURATION:PT1H
X-Robots-Tag:noindex
X-PUBLISHED-TTL:PT1H
BEGIN:VTIMEZONE
TZID:UTC
BEGIN:STANDARD
TZOFFSETFROM:+0000
TZOFFSETTO:+0000
TZNAME:UTC
DTSTART:20230101T000000
END:STANDARD
END:VTIMEZONE
BEGIN:VEVENT
DTSTART;VALUE=DATE:20240507
DTEND;VALUE=DATE:20240508
DTSTAMP:20260424T215028
CREATED:20240129T153242Z
LAST-MODIFIED:20240326T122306Z
UID:7833-1715040000-1715126399@www.machynys.com
SUMMARY:Seniors vs Tenby - HOME
DESCRIPTION:
URL:https://www.machynys.com/event/seniors-vs-tenby-home/
CATEGORIES:Seniors
END:VEVENT
BEGIN:VEVENT
DTSTART;VALUE=DATE:20240417
DTEND;VALUE=DATE:20240418
DTSTAMP:20260424T215028
CREATED:20240129T153324Z
LAST-MODIFIED:20240129T153324Z
UID:7835-1713312000-1713398399@www.machynys.com
SUMMARY:Seniors vs Clyne - AWAY
DESCRIPTION:
URL:https://www.machynys.com/event/seniors-vs-clyne-away/
CATEGORIES:Seniors
END:VEVENT
END:VCALENDAR