BEGIN:VCALENDAR
VERSION:2.0
PRODID:-//Machynys Peninsula Golf Club and Premier Spa - ECPv6.15.20//NONSGML v1.0//EN
CALSCALE:GREGORIAN
METHOD:PUBLISH
X-ORIGINAL-URL:https://www.machynys.com
X-WR-CALDESC:Events for Machynys Peninsula Golf Club and Premier Spa
REFRESH-INTERVAL;VALUE=DURATION:PT1H
X-Robots-Tag:noindex
X-PUBLISHED-TTL:PT1H
BEGIN:VTIMEZONE
TZID:UTC
BEGIN:STANDARD
TZOFFSETFROM:+0000
TZOFFSETTO:+0000
TZNAME:UTC
DTSTART:20230101T000000
END:STANDARD
END:VTIMEZONE
BEGIN:VEVENT
DTSTART;VALUE=DATE:20240815
DTEND;VALUE=DATE:20240816
DTSTAMP:20260424T161150
CREATED:20240122T115507Z
LAST-MODIFIED:20240122T115507Z
UID:7631-1723680000-1723766399@www.machynys.com
SUMMARY:Quartz Dragons vs Clyne - AWAY
DESCRIPTION:
URL:https://www.machynys.com/event/quartz-dragons-vs-clyne-away/
CATEGORIES:Quartz Dragons
END:VEVENT
BEGIN:VEVENT
DTSTART;VALUE=DATE:20240801
DTEND;VALUE=DATE:20240802
DTSTAMP:20260424T161150
CREATED:20240122T114035Z
LAST-MODIFIED:20240122T114035Z
UID:7605-1722470400-1722556799@www.machynys.com
SUMMARY:Quartz Dragons vs Gower - AWAY
DESCRIPTION:
URL:https://www.machynys.com/event/quartz-dragons-vs-gower-away/
CATEGORIES:Quartz Dragons
END:VEVENT
BEGIN:VEVENT
DTSTART;VALUE=DATE:20240722
DTEND;VALUE=DATE:20240723
DTSTAMP:20260424T161150
CREATED:20240122T111006Z
LAST-MODIFIED:20240202T110441Z
UID:7557-1721606400-1721692799@www.machynys.com
SUMMARY:Quartz Dragons vs Fairwood - AWAY
DESCRIPTION:
URL:https://www.machynys.com/event/quartz-dragons-vs-fairwood-away/
CATEGORIES:Quartz Dragons
END:VEVENT
BEGIN:VEVENT
DTSTART;VALUE=DATE:20240718
DTEND;VALUE=DATE:20240719
DTSTAMP:20260424T161150
CREATED:20240122T112223Z
LAST-MODIFIED:20240122T112223Z
UID:7579-1721260800-1721347199@www.machynys.com
SUMMARY:Machynys vs Glynhir - AWAY
DESCRIPTION:
URL:https://www.machynys.com/event/machynys-vs-glynhir-away/
CATEGORIES:Quartz Dragons
END:VEVENT
BEGIN:VEVENT
DTSTART;VALUE=DATE:20240627
DTEND;VALUE=DATE:20240628
DTSTAMP:20260424T161150
CREATED:20240120T145057Z
LAST-MODIFIED:20240120T145057Z
UID:7530-1719446400-1719532799@www.machynys.com
SUMMARY:Quartz Dragons vs Glynhir - HOME
DESCRIPTION:
URL:https://www.machynys.com/event/quartz-dragons-vs-glynhir-home/
CATEGORIES:Quartz Dragons
END:VEVENT
BEGIN:VEVENT
DTSTART;VALUE=DATE:20240620
DTEND;VALUE=DATE:20240621
DTSTAMP:20260424T161150
CREATED:20240120T144643Z
LAST-MODIFIED:20240120T144643Z
UID:7514-1718841600-1718927999@www.machynys.com
SUMMARY:Machynys Dragons vs Fairwood - HOME
DESCRIPTION:
URL:https://www.machynys.com/event/machynys-dragons-vs-fairwood-home/
CATEGORIES:Quartz Dragons
END:VEVENT
BEGIN:VEVENT
DTSTART;VALUE=DATE:20240606
DTEND;VALUE=DATE:20240607
DTSTAMP:20260424T161150
CREATED:20240120T143520Z
LAST-MODIFIED:20240120T143520Z
UID:7483-1717632000-1717718399@www.machynys.com
SUMMARY:Quartz Dragons vs Pontardawe - HOME
DESCRIPTION:
URL:https://www.machynys.com/event/quartz-dragons-vs-pontardawe-home/
CATEGORIES:Quartz Dragons
END:VEVENT
BEGIN:VEVENT
DTSTART;VALUE=DATE:20240530
DTEND;VALUE=DATE:20240531
DTSTAMP:20260424T161150
CREATED:20240120T142735Z
LAST-MODIFIED:20240120T142735Z
UID:7469-1717027200-1717113599@www.machynys.com
SUMMARY:Quartz Dragons vs Pontardawe -AWAY
DESCRIPTION:
URL:https://www.machynys.com/event/quartz-dragons-vs-pontardawe-away/
CATEGORIES:Quartz Dragons
END:VEVENT
BEGIN:VEVENT
DTSTART;VALUE=DATE:20240523
DTEND;VALUE=DATE:20240524
DTSTAMP:20260424T161150
CREATED:20240120T141848Z
LAST-MODIFIED:20240120T141908Z
UID:7446-1716422400-1716508799@www.machynys.com
SUMMARY:Machynys Quartz vs Quartz Dragons - HOME
DESCRIPTION:
URL:https://www.machynys.com/event/machynys-quartz-vs-quartz-dragons/
CATEGORIES:Machynys Quartz,Quartz Dragons
END:VEVENT
BEGIN:VEVENT
DTSTART;VALUE=DATE:20240516
DTEND;VALUE=DATE:20240517
DTSTAMP:20260424T161150
CREATED:20240120T141442Z
LAST-MODIFIED:20240120T141442Z
UID:7432-1715817600-1715903999@www.machynys.com
SUMMARY:Quartz Dragons vs Gower - HOME
DESCRIPTION:
URL:https://www.machynys.com/event/quartz-dragons-vs-gower-home/
CATEGORIES:Quartz Dragons
END:VEVENT
BEGIN:VEVENT
DTSTART;VALUE=DATE:20240509
DTEND;VALUE=DATE:20240510
DTSTAMP:20260424T161150
CREATED:20240120T141025Z
LAST-MODIFIED:20240120T141025Z
UID:7418-1715212800-1715299199@www.machynys.com
SUMMARY:Quartz Dragons vs Clyne - HOME
DESCRIPTION:
URL:https://www.machynys.com/event/quartz-dragons-vs-clyne-home/
CATEGORIES:Quartz Dragons
END:VEVENT
BEGIN:VEVENT
DTSTART;VALUE=DATE:20240503
DTEND;VALUE=DATE:20240504
DTSTAMP:20260424T161150
CREATED:20240120T135610Z
LAST-MODIFIED:20240202T110050Z
UID:7402-1714694400-1714780799@www.machynys.com
SUMMARY:Quartz Dragons vs Swansea Bay - HOME (Cup)
DESCRIPTION:
URL:https://www.machynys.com/event/quartz-dragons-vs-swansea-bay-home-cup/
CATEGORIES:Quartz Dragons
END:VEVENT
END:VCALENDAR