BEGIN:VCALENDAR
VERSION:2.0
PRODID:-//Machynys Peninsula Golf Club and Premier Spa - ECPv6.15.20//NONSGML v1.0//EN
CALSCALE:GREGORIAN
METHOD:PUBLISH
X-WR-CALNAME:Machynys Peninsula Golf Club and Premier Spa
X-ORIGINAL-URL:https://www.machynys.com
X-WR-CALDESC:Events for Machynys Peninsula Golf Club and Premier Spa
REFRESH-INTERVAL;VALUE=DURATION:PT1H
X-Robots-Tag:noindex
X-PUBLISHED-TTL:PT1H
BEGIN:VTIMEZONE
TZID:UTC
BEGIN:STANDARD
TZOFFSETFROM:+0000
TZOFFSETTO:+0000
TZNAME:UTC
DTSTART:20230101T000000
END:STANDARD
END:VTIMEZONE
BEGIN:VEVENT
DTSTART;VALUE=DATE:20240730
DTEND;VALUE=DATE:20240731
DTSTAMP:20260424T173345
CREATED:20240122T113136Z
LAST-MODIFIED:20240122T113136Z
UID:7599-1722297600-1722383999@www.machynys.com
SUMMARY:Links vs Fairwood - HOME
DESCRIPTION:
URL:https://www.machynys.com/event/links-vs-fairwood-home/
CATEGORIES:Links Match
END:VEVENT
BEGIN:VEVENT
DTSTART;VALUE=DATE:20240723
DTEND;VALUE=DATE:20240724
DTSTAMP:20260424T173345
CREATED:20240122T112512Z
LAST-MODIFIED:20240122T112512Z
UID:7585-1721692800-1721779199@www.machynys.com
SUMMARY:Links vs Gower - AWAY
DESCRIPTION:
URL:https://www.machynys.com/event/links-vs-gower-away/
CATEGORIES:Links Match
END:VEVENT
BEGIN:VEVENT
DTSTART;VALUE=DATE:20240716
DTEND;VALUE=DATE:20240717
DTSTAMP:20260424T173345
CREATED:20240122T111822Z
LAST-MODIFIED:20240122T111822Z
UID:7573-1721088000-1721174399@www.machynys.com
SUMMARY:Links vs Fairwood - AWAY
DESCRIPTION:
URL:https://www.machynys.com/event/links-vs-fairwood-away/
CATEGORIES:Links Match
END:VEVENT
BEGIN:VEVENT
DTSTART;VALUE=DATE:20240709
DTEND;VALUE=DATE:20240710
DTSTAMP:20260424T173345
CREATED:20240122T111050Z
LAST-MODIFIED:20240122T111050Z
UID:7559-1720483200-1720569599@www.machynys.com
SUMMARY:Links vs Clyne - HOME
DESCRIPTION:
URL:https://www.machynys.com/event/links-vs-clyne-home/
CATEGORIES:Links Match
END:VEVENT
BEGIN:VEVENT
DTSTART;VALUE=DATE:20240702
DTEND;VALUE=DATE:20240703
DTSTAMP:20260424T173345
CREATED:20240122T102701Z
LAST-MODIFIED:20240122T102701Z
UID:7545-1719878400-1719964799@www.machynys.com
SUMMARY:Links vs Gower - HOME
DESCRIPTION:
URL:https://www.machynys.com/event/links-vs-gower-home/
CATEGORIES:Links Match
END:VEVENT
BEGIN:VEVENT
DTSTART;VALUE=DATE:20240625
DTEND;VALUE=DATE:20240626
DTSTAMP:20260424T173345
CREATED:20240120T145005Z
LAST-MODIFIED:20240120T145005Z
UID:7526-1719273600-1719359999@www.machynys.com
SUMMARY:Links vs Pontardawe - HOME
DESCRIPTION:
URL:https://www.machynys.com/event/links-vs-pontardawe-home/
CATEGORIES:Links Match
END:VEVENT
BEGIN:VEVENT
DTSTART;VALUE=DATE:20240618
DTEND;VALUE=DATE:20240619
DTSTAMP:20260424T173345
CREATED:20240120T144448Z
LAST-MODIFIED:20240120T144448Z
UID:7508-1718668800-1718755199@www.machynys.com
SUMMARY:Links vs Clyne - AWAY
DESCRIPTION:
URL:https://www.machynys.com/event/links-vs-clyne-away/
CATEGORIES:Links Match
END:VEVENT
BEGIN:VEVENT
DTSTART;VALUE=DATE:20240529
DTEND;VALUE=DATE:20240530
DTSTAMP:20260424T173345
CREATED:20240120T142553Z
LAST-MODIFIED:20240120T142553Z
UID:7465-1716940800-1717027199@www.machynys.com
SUMMARY:Links vs Pontardawe - AWAY
DESCRIPTION:
URL:https://www.machynys.com/event/links-vs-pontardawe-away/
CATEGORIES:Links Match
END:VEVENT
BEGIN:VEVENT
DTSTART;VALUE=DATE:20240521
DTEND;VALUE=DATE:20240522
DTSTAMP:20260424T173345
CREATED:20240120T141706Z
LAST-MODIFIED:20240120T141706Z
UID:7442-1716249600-1716335999@www.machynys.com
SUMMARY:Links vs Pennard - AWAY
DESCRIPTION:
URL:https://www.machynys.com/event/links-vs-pennard-away/
CATEGORIES:Links Match
END:VEVENT
BEGIN:VEVENT
DTSTART;VALUE=DATE:20240514
DTEND;VALUE=DATE:20240515
DTSTAMP:20260424T173345
CREATED:20240120T141353Z
LAST-MODIFIED:20240120T141353Z
UID:7428-1715644800-1715731199@www.machynys.com
SUMMARY:Links vs Pennard - HOME
DESCRIPTION:
URL:https://www.machynys.com/event/links-vs-pennard-home/
CATEGORIES:Links Match
END:VEVENT
END:VCALENDAR