BEGIN:VCALENDAR
VERSION:2.0
PRODID:-//Machynys Peninsula Golf Club and Premier Spa - ECPv6.15.20//NONSGML v1.0//EN
CALSCALE:GREGORIAN
METHOD:PUBLISH
X-ORIGINAL-URL:https://www.machynys.com
X-WR-CALDESC:Events for Machynys Peninsula Golf Club and Premier Spa
REFRESH-INTERVAL;VALUE=DURATION:PT1H
X-Robots-Tag:noindex
X-PUBLISHED-TTL:PT1H
BEGIN:VTIMEZONE
TZID:UTC
BEGIN:STANDARD
TZOFFSETFROM:+0000
TZOFFSETTO:+0000
TZNAME:UTC
DTSTART:20230101T000000
END:STANDARD
END:VTIMEZONE
BEGIN:VEVENT
DTSTART;VALUE=DATE:20240601
DTEND;VALUE=DATE:20240602
DTSTAMP:20260425T012950
CREATED:20240120T141617Z
LAST-MODIFIED:20240120T150739Z
UID:7438-1717200000-1717286399@www.machynys.com
SUMMARY:Ladies Stableford
DESCRIPTION:
URL:https://www.machynys.com/event/ladies-stableford-2/
CATEGORIES:Ladies Competitions
END:VEVENT
BEGIN:VEVENT
DTSTART;VALUE=DATE:20240531
DTEND;VALUE=DATE:20240601
DTSTAMP:20260425T012950
CREATED:20240120T142810Z
LAST-MODIFIED:20240120T142810Z
UID:7471-1717113600-1717199999@www.machynys.com
SUMMARY:Ladies vs Carmarthen - AWAY (Friendly)
DESCRIPTION:
URL:https://www.machynys.com/event/ladies-vs-carmarthen-away-friendly/
CATEGORIES:Ladies Competitions
END:VEVENT
BEGIN:VEVENT
DTSTART;VALUE=DATE:20240529
DTEND;VALUE=DATE:20240530
DTSTAMP:20260425T012950
CREATED:20240120T142513Z
LAST-MODIFIED:20240120T142513Z
UID:7463-1716940800-1717027199@www.machynys.com
SUMMARY:Summer League Round 9
DESCRIPTION:
URL:https://www.machynys.com/event/summer-league-round-9/
CATEGORIES:Club Competition,Ladies Competitions
END:VEVENT
BEGIN:VEVENT
DTSTART;VALUE=DATE:20240527
DTEND;VALUE=DATE:20240528
DTSTAMP:20260425T012950
CREATED:20240120T142234Z
LAST-MODIFIED:20240120T142234Z
UID:7459-1716768000-1716854399@www.machynys.com
SUMMARY:Spring Bank Holiday Stableford
DESCRIPTION:
URL:https://www.machynys.com/event/spring-bank-holiday-stableford/
CATEGORIES:Club Competition,Ladies Competitions
END:VEVENT
BEGIN:VEVENT
DTSTART;VALUE=DATE:20240526
DTEND;VALUE=DATE:20240527
DTSTAMP:20260425T012950
CREATED:20240120T142154Z
LAST-MODIFIED:20240120T142154Z
UID:7457-1716681600-1716767999@www.machynys.com
SUMMARY:Ladies C&P vs Haverfordwest - HOME
DESCRIPTION:
URL:https://www.machynys.com/event/ladies-cp-vs-haverfordwest-home/
CATEGORIES:Ladies C&P,Ladies Competitions
END:VEVENT
BEGIN:VEVENT
DTSTART;VALUE=DATE:20240526
DTEND;VALUE=DATE:20240527
DTSTAMP:20260425T012950
CREATED:20240120T142100Z
LAST-MODIFIED:20240120T142100Z
UID:7455-1716681600-1716767999@www.machynys.com
SUMMARY:Sunday Medal
DESCRIPTION:
URL:https://www.machynys.com/event/sunday-medal-3/
CATEGORIES:Club Competition,Ladies Competitions
END:VEVENT
BEGIN:VEVENT
DTSTART;VALUE=DATE:20240525
DTEND;VALUE=DATE:20240526
DTSTAMP:20260425T012950
CREATED:20240120T142039Z
LAST-MODIFIED:20240120T142039Z
UID:7453-1716595200-1716681599@www.machynys.com
SUMMARY:Ladies Stableford
DESCRIPTION:
URL:https://www.machynys.com/event/ladies-stableford-3/
CATEGORIES:Ladies Competitions
END:VEVENT
BEGIN:VEVENT
DTSTART;VALUE=DATE:20240525
DTEND;VALUE=DATE:20240526
DTSTAMP:20260425T012950
CREATED:20240120T142017Z
LAST-MODIFIED:20240120T142017Z
UID:7451-1716595200-1716681599@www.machynys.com
SUMMARY:Bank Holidat 4-Ball Better Ball (Best 3 Scores from 3/4)
DESCRIPTION:
URL:https://www.machynys.com/event/bank-holidat-4-ball-better-ball-best-3-scores-from-3-4/
CATEGORIES:Club Competition,Ladies Competitions
END:VEVENT
BEGIN:VEVENT
DTSTART;VALUE=DATE:20240522
DTEND;VALUE=DATE:20240523
DTSTAMP:20260425T012950
CREATED:20240120T141744Z
LAST-MODIFIED:20240120T141744Z
UID:7444-1716336000-1716422399@www.machynys.com
SUMMARY:Summer League Round 8
DESCRIPTION:
URL:https://www.machynys.com/event/summer-league-round-8/
CATEGORIES:Club Competition,Ladies Competitions
END:VEVENT
BEGIN:VEVENT
DTSTART;VALUE=DATE:20240519
DTEND;VALUE=DATE:20240520
DTSTAMP:20260425T012950
CREATED:20240120T141641Z
LAST-MODIFIED:20240120T141641Z
UID:7440-1716076800-1716163199@www.machynys.com
SUMMARY:Sunday Stableford
DESCRIPTION:
URL:https://www.machynys.com/event/sunday-stableford-7/
CATEGORIES:Club Competition,Ladies Competitions
END:VEVENT
BEGIN:VEVENT
DTSTART;VALUE=DATE:20240518
DTEND;VALUE=DATE:20240520
DTSTAMP:20260425T012950
CREATED:20240120T142957Z
LAST-MODIFIED:20240120T150609Z
UID:7475-1715990400-1716163199@www.machynys.com
SUMMARY:Ladies OOM - Stableford (Round 6)
DESCRIPTION:
URL:https://www.machynys.com/event/ladies-oom-stableford-round-6/
CATEGORIES:Ladies Competitions
END:VEVENT
BEGIN:VEVENT
DTSTART;VALUE=DATE:20240515
DTEND;VALUE=DATE:20240516
DTSTAMP:20260425T012950
CREATED:20240120T141414Z
LAST-MODIFIED:20240120T141414Z
UID:7430-1715731200-1715817599@www.machynys.com
SUMMARY:Summer League Round 7
DESCRIPTION:
URL:https://www.machynys.com/event/summer-league-round-7/
CATEGORIES:Club Competition,Ladies Competitions
END:VEVENT
BEGIN:VEVENT
DTSTART;VALUE=DATE:20240511
DTEND;VALUE=DATE:20240513
DTSTAMP:20260425T012950
CREATED:20240120T141140Z
LAST-MODIFIED:20240120T141140Z
UID:7422-1715385600-1715558399@www.machynys.com
SUMMARY:Ladies OOM - Medal (Round 5)
DESCRIPTION:
URL:https://www.machynys.com/event/ladies-oom-medal-round-5/
CATEGORIES:Ladies Competitions
END:VEVENT
BEGIN:VEVENT
DTSTART;VALUE=DATE:20240509
DTEND;VALUE=DATE:20240510
DTSTAMP:20260425T012950
CREATED:20240120T140956Z
LAST-MODIFIED:20240120T140956Z
UID:7416-1715212800-1715299199@www.machynys.com
SUMMARY:Ladies Coffee Morning
DESCRIPTION:
URL:https://www.machynys.com/event/ladies-coffee-morning/
CATEGORIES:Ladies Competitions
END:VEVENT
BEGIN:VEVENT
DTSTART;VALUE=DATE:20240508
DTEND;VALUE=DATE:20240509
DTSTAMP:20260425T012950
CREATED:20240120T140913Z
LAST-MODIFIED:20240120T140913Z
UID:7414-1715126400-1715212799@www.machynys.com
SUMMARY:Summer League Round 6
DESCRIPTION:
URL:https://www.machynys.com/event/summer-league-round-6/
CATEGORIES:Club Competition,Ladies Competitions
END:VEVENT
BEGIN:VEVENT
DTSTART;VALUE=DATE:20240506
DTEND;VALUE=DATE:20240507
DTSTAMP:20260425T012950
CREATED:20240120T140754Z
LAST-MODIFIED:20240120T140754Z
UID:7410-1714953600-1715039999@www.machynys.com
SUMMARY:Early May Bank Holiday Stableford
DESCRIPTION:
URL:https://www.machynys.com/event/early-may-bank-holiday-stableford/
CATEGORIES:Club Competition,Ladies Competitions
END:VEVENT
BEGIN:VEVENT
DTSTART;VALUE=DATE:20240504
DTEND;VALUE=DATE:20240506
DTSTAMP:20260425T012950
CREATED:20240120T135756Z
LAST-MODIFIED:20240120T135756Z
UID:7406-1714780800-1714953599@www.machynys.com
SUMMARY:Ladies OOM - Stableford (Round 4)
DESCRIPTION:
URL:https://www.machynys.com/event/ladies-oom-stableford-round-4/
CATEGORIES:Ladies Competitions
END:VEVENT
BEGIN:VEVENT
DTSTART;VALUE=DATE:20240504
DTEND;VALUE=DATE:20240505
DTSTAMP:20260425T012950
CREATED:20240120T135702Z
LAST-MODIFIED:20240120T135702Z
UID:7404-1714780800-1714867199@www.machynys.com
SUMMARY:Bank Holiday 4-Ball Better Ball (Pairs)
DESCRIPTION:
URL:https://www.machynys.com/event/bank-holiday-4-ball-better-ball-pairs/
CATEGORIES:Club Competition,Ladies Competitions
END:VEVENT
BEGIN:VEVENT
DTSTART;VALUE=DATE:20240501
DTEND;VALUE=DATE:20240502
DTSTAMP:20260425T012950
CREATED:20240120T135055Z
LAST-MODIFIED:20240120T135055Z
UID:7400-1714521600-1714607999@www.machynys.com
SUMMARY:Summer League Round 5
DESCRIPTION:
URL:https://www.machynys.com/event/summer-league-round-5/
CATEGORIES:Club Competition,Ladies Competitions
END:VEVENT
BEGIN:VEVENT
DTSTART;VALUE=DATE:20240427
DTEND;VALUE=DATE:20240429
DTSTAMP:20260425T012950
CREATED:20240120T134944Z
LAST-MODIFIED:20240120T134944Z
UID:7396-1714176000-1714348799@www.machynys.com
SUMMARY:Ladies OOM - Stableford (Round 3)
DESCRIPTION:
URL:https://www.machynys.com/event/ladies-oom-stableford-round-3/
CATEGORIES:Ladies Competitions
END:VEVENT
BEGIN:VEVENT
DTSTART;VALUE=DATE:20240424
DTEND;VALUE=DATE:20240425
DTSTAMP:20260425T012950
CREATED:20240120T134816Z
LAST-MODIFIED:20240120T134816Z
UID:7390-1713916800-1714003199@www.machynys.com
SUMMARY:Summer League Round 4
DESCRIPTION:
URL:https://www.machynys.com/event/summer-league-round-4/
CATEGORIES:Club Competition,Ladies Competitions
END:VEVENT
BEGIN:VEVENT
DTSTART;VALUE=DATE:20240420
DTEND;VALUE=DATE:20240422
DTSTAMP:20260425T012950
CREATED:20240120T134609Z
LAST-MODIFIED:20240120T134609Z
UID:7384-1713571200-1713743999@www.machynys.com
SUMMARY:Ladies OOM - Medal (Round 2)
DESCRIPTION:
URL:https://www.machynys.com/event/ladies-oom-medal-round-2/
CATEGORIES:Ladies Competitions
END:VEVENT
BEGIN:VEVENT
DTSTART;VALUE=DATE:20240417
DTEND;VALUE=DATE:20240418
DTSTAMP:20260425T012950
CREATED:20240120T134424Z
LAST-MODIFIED:20240120T134424Z
UID:7380-1713312000-1713398399@www.machynys.com
SUMMARY:Summer League Round 3
DESCRIPTION:
URL:https://www.machynys.com/event/summer-league-round-3/
CATEGORIES:Club Competition,Ladies Competitions
END:VEVENT
BEGIN:VEVENT
DTSTART;VALUE=DATE:20240414
DTEND;VALUE=DATE:20240415
DTSTAMP:20260425T012950
CREATED:20240120T134358Z
LAST-MODIFIED:20240120T134358Z
UID:7378-1713052800-1713139199@www.machynys.com
SUMMARY:Sunday Stableford
DESCRIPTION:
URL:https://www.machynys.com/event/sunday-stableford-4/
CATEGORIES:Club Competition,Ladies Competitions
END:VEVENT
BEGIN:VEVENT
DTSTART;VALUE=DATE:20240413
DTEND;VALUE=DATE:20240414
DTSTAMP:20260425T012950
CREATED:20240120T134337Z
LAST-MODIFIED:20240120T134337Z
UID:7376-1712966400-1713052799@www.machynys.com
SUMMARY:Ladies Australian Spoons Qualifier
DESCRIPTION:
URL:https://www.machynys.com/event/ladies-australian-spoons-qualifier/
CATEGORIES:Ladies Competitions
END:VEVENT
BEGIN:VEVENT
DTSTART;VALUE=DATE:20240411
DTEND;VALUE=DATE:20240412
DTSTAMP:20260425T012950
CREATED:20240120T134229Z
LAST-MODIFIED:20240309T112218Z
UID:7372-1712793600-1712879999@www.machynys.com
SUMMARY:Summer League Round 2
DESCRIPTION:
URL:https://www.machynys.com/event/summer-league-round-2/
CATEGORIES:Club Competition,Ladies Competitions
END:VEVENT
BEGIN:VEVENT
DTSTART;VALUE=DATE:20240407
DTEND;VALUE=DATE:20240408
DTSTAMP:20260425T012950
CREATED:20240120T134134Z
LAST-MODIFIED:20240120T134134Z
UID:7370-1712448000-1712534399@www.machynys.com
SUMMARY:PING Mixed Qualifier
DESCRIPTION:
URL:https://www.machynys.com/event/ping-mixed-qualifier/
CATEGORIES:Club Competition,Ladies Competitions
END:VEVENT
BEGIN:VEVENT
DTSTART;VALUE=DATE:20240407
DTEND;VALUE=DATE:20240408
DTSTAMP:20260425T012950
CREATED:20240120T134108Z
LAST-MODIFIED:20240120T134108Z
UID:7367-1712448000-1712534399@www.machynys.com
SUMMARY:Sunday Stableford
DESCRIPTION:
URL:https://www.machynys.com/event/sunday-stableford-3/
CATEGORIES:Club Competition,Ladies Competitions
END:VEVENT
BEGIN:VEVENT
DTSTART;VALUE=DATE:20240406
DTEND;VALUE=DATE:20240407
DTSTAMP:20260425T012950
CREATED:20240120T133713Z
LAST-MODIFIED:20240120T133713Z
UID:7364-1712361600-1712447999@www.machynys.com
SUMMARY:Ladies Stableford
DESCRIPTION:
URL:https://www.machynys.com/event/ladies-stableford/
CATEGORIES:Ladies Competitions
END:VEVENT
BEGIN:VEVENT
DTSTART;VALUE=DATE:20240403
DTEND;VALUE=DATE:20240404
DTSTAMP:20260425T012950
CREATED:20240120T133541Z
LAST-MODIFIED:20240309T112154Z
UID:7360-1712102400-1712188799@www.machynys.com
SUMMARY:Summer League Round 1
DESCRIPTION:
URL:https://www.machynys.com/event/summer-league-round-1/
CATEGORIES:Club Competition,Ladies Competitions
END:VEVENT
END:VCALENDAR