BEGIN:VCALENDAR
VERSION:2.0
PRODID:-//Machynys Peninsula Golf Club and Premier Spa - ECPv6.15.20//NONSGML v1.0//EN
CALSCALE:GREGORIAN
METHOD:PUBLISH
X-ORIGINAL-URL:https://www.machynys.com
X-WR-CALDESC:Events for Machynys Peninsula Golf Club and Premier Spa
REFRESH-INTERVAL;VALUE=DURATION:PT1H
X-Robots-Tag:noindex
X-PUBLISHED-TTL:PT1H
BEGIN:VTIMEZONE
TZID:UTC
BEGIN:STANDARD
TZOFFSETFROM:+0000
TZOFFSETTO:+0000
TZNAME:UTC
DTSTART:20230101T000000
END:STANDARD
END:VTIMEZONE
BEGIN:VEVENT
DTSTART;VALUE=DATE:20240925
DTEND;VALUE=DATE:20240926
DTSTAMP:20260424T173504
CREATED:20240122T123801Z
LAST-MODIFIED:20240122T123801Z
UID:7695-1727222400-1727308799@www.machynys.com
SUMMARY:9-Hole Comepetition
DESCRIPTION:
URL:https://www.machynys.com/event/9-hole-comepetition/
CATEGORIES:Club Competition,Ladies Competitions
END:VEVENT
BEGIN:VEVENT
DTSTART;VALUE=DATE:20240921
DTEND;VALUE=DATE:20240923
DTSTAMP:20260424T173504
CREATED:20240122T123704Z
LAST-MODIFIED:20240122T123704Z
UID:7691-1726876800-1727049599@www.machynys.com
SUMMARY:Ladies OOM - Medal (Round 12)
DESCRIPTION:
URL:https://www.machynys.com/event/ladies-oom-medal-round-12/
CATEGORIES:Ladies Competitions
END:VEVENT
BEGIN:VEVENT
DTSTART;VALUE=DATE:20240918
DTEND;VALUE=DATE:20240919
DTSTAMP:20260424T173504
CREATED:20240122T123601Z
LAST-MODIFIED:20240122T123601Z
UID:7686-1726617600-1726703999@www.machynys.com
SUMMARY:9-Hole Competition
DESCRIPTION:
URL:https://www.machynys.com/event/9-hole-competition-2/
CATEGORIES:Club Competition,Ladies Competitions
END:VEVENT
BEGIN:VEVENT
DTSTART;VALUE=DATE:20240914
DTEND;VALUE=DATE:20240916
DTSTAMP:20260424T173504
CREATED:20240122T123409Z
LAST-MODIFIED:20240122T123409Z
UID:7682-1726272000-1726444799@www.machynys.com
SUMMARY:Ladies OOM - Stableford (Round 11)
DESCRIPTION:
URL:https://www.machynys.com/event/ladies-oom-stableford-round-11/
CATEGORIES:Ladies Competitions
END:VEVENT
BEGIN:VEVENT
DTSTART;VALUE=DATE:20240911
DTEND;VALUE=DATE:20240912
DTSTAMP:20260424T173504
CREATED:20240122T123232Z
LAST-MODIFIED:20240122T123232Z
UID:7678-1726012800-1726099199@www.machynys.com
SUMMARY:9-Hole Competition
DESCRIPTION:
URL:https://www.machynys.com/event/9-hole-competition/
CATEGORIES:Championships,Ladies Competitions
END:VEVENT
BEGIN:VEVENT
DTSTART;VALUE=DATE:20240908
DTEND;VALUE=DATE:20240909
DTSTAMP:20260424T173504
CREATED:20240122T123205Z
LAST-MODIFIED:20240122T123205Z
UID:7676-1725753600-1725839999@www.machynys.com
SUMMARY:Ladies Stableford
DESCRIPTION:
URL:https://www.machynys.com/event/ladies-stableford-13/
CATEGORIES:Ladies Competitions
END:VEVENT
BEGIN:VEVENT
DTSTART;VALUE=DATE:20240908
DTEND;VALUE=DATE:20240909
DTSTAMP:20260424T173504
CREATED:20240122T123136Z
LAST-MODIFIED:20240122T123136Z
UID:7674-1725753600-1725839999@www.machynys.com
SUMMARY:Sunday Stableford
DESCRIPTION:
URL:https://www.machynys.com/event/sunday-stableford-19/
CATEGORIES:Club Competition,Ladies Competitions
END:VEVENT
BEGIN:VEVENT
DTSTART;VALUE=DATE:20240907
DTEND;VALUE=DATE:20240908
DTSTAMP:20260424T173504
CREATED:20240122T122824Z
LAST-MODIFIED:20240122T122824Z
UID:7672-1725667200-1725753599@www.machynys.com
SUMMARY:Ladies Stableford
DESCRIPTION:
URL:https://www.machynys.com/event/ladies-stableford-12/
CATEGORIES:Ladies Competitions
END:VEVENT
BEGIN:VEVENT
DTSTART;VALUE=DATE:20240904
DTEND;VALUE=DATE:20240905
DTSTAMP:20260424T173504
CREATED:20240122T122403Z
LAST-MODIFIED:20240122T122403Z
UID:7668-1725408000-1725494399@www.machynys.com
SUMMARY:Summer League Round 22
DESCRIPTION:
URL:https://www.machynys.com/event/summer-league-round-22/
CATEGORIES:Club Competition,Ladies Competitions
END:VEVENT
BEGIN:VEVENT
DTSTART;VALUE=DATE:20240901
DTEND;VALUE=DATE:20240902
DTSTAMP:20260424T173504
CREATED:20240122T122327Z
LAST-MODIFIED:20240122T122327Z
UID:7666-1725148800-1725235199@www.machynys.com
SUMMARY:Sunday Stableford
DESCRIPTION:
URL:https://www.machynys.com/event/sunday-stableford-18/
CATEGORIES:Club Competition,Ladies Competitions
END:VEVENT
BEGIN:VEVENT
DTSTART;VALUE=DATE:20240831
DTEND;VALUE=DATE:20240901
DTSTAMP:20260424T173504
CREATED:20240122T122228Z
LAST-MODIFIED:20240122T122228Z
UID:7664-1725062400-1725148799@www.machynys.com
SUMMARY:Ladies Coronation Foursomes Qualifier
DESCRIPTION:
URL:https://www.machynys.com/event/ladies-coronation-foursomes-qualifier/
CATEGORIES:Ladies Competitions
END:VEVENT
BEGIN:VEVENT
DTSTART;VALUE=DATE:20240828
DTEND;VALUE=DATE:20240829
DTSTAMP:20260424T173504
CREATED:20240122T121538Z
LAST-MODIFIED:20240122T121538Z
UID:7659-1724803200-1724889599@www.machynys.com
SUMMARY:Summer League Round 21
DESCRIPTION:
URL:https://www.machynys.com/event/summer-league-round-21/
CATEGORIES:Club Competition,Ladies Competitions
END:VEVENT
BEGIN:VEVENT
DTSTART;VALUE=DATE:20240826
DTEND;VALUE=DATE:20240827
DTSTAMP:20260424T173504
CREATED:20240122T121514Z
LAST-MODIFIED:20240122T121514Z
UID:7657-1724630400-1724716799@www.machynys.com
SUMMARY:August Bank Holiday Medal
DESCRIPTION:
URL:https://www.machynys.com/event/august-bank-holiday-medal/
CATEGORIES:Club Competition,Ladies Competitions
END:VEVENT
BEGIN:VEVENT
DTSTART;VALUE=DATE:20240824
DTEND;VALUE=DATE:20240826
DTSTAMP:20260424T173504
CREATED:20240122T121155Z
LAST-MODIFIED:20240122T121155Z
UID:7651-1724457600-1724630399@www.machynys.com
SUMMARY:Ladies OOM - Stableford (Round 10)
DESCRIPTION:
URL:https://www.machynys.com/event/ladies-oom-stableford-round-10/
CATEGORIES:Ladies Competitions
END:VEVENT
BEGIN:VEVENT
DTSTART;VALUE=DATE:20240822
DTEND;VALUE=DATE:20240823
DTSTAMP:20260424T173504
CREATED:20240122T115830Z
LAST-MODIFIED:20240122T115830Z
UID:7643-1724284800-1724371199@www.machynys.com
SUMMARY:Texas Scramble Open Competition
DESCRIPTION:
URL:https://www.machynys.com/event/texas-scramble-open-competition/
CATEGORIES:Club Competition,Ladies Competitions
END:VEVENT
BEGIN:VEVENT
DTSTART;VALUE=DATE:20240821
DTEND;VALUE=DATE:20240822
DTSTAMP:20260424T173504
CREATED:20240122T115901Z
LAST-MODIFIED:20240122T115901Z
UID:7645-1724198400-1724284799@www.machynys.com
SUMMARY:4-Ball Better Ball Open Competition
DESCRIPTION:
URL:https://www.machynys.com/event/4-ball-better-ball-open-competition/
CATEGORIES:Club Competition,Ladies Competitions
END:VEVENT
BEGIN:VEVENT
DTSTART;VALUE=DATE:20240820
DTEND;VALUE=DATE:20240821
DTSTAMP:20260424T173504
CREATED:20240122T115751Z
LAST-MODIFIED:20240122T115751Z
UID:7641-1724112000-1724198399@www.machynys.com
SUMMARY:Ladies Open
DESCRIPTION:
URL:https://www.machynys.com/event/ladies-open/
CATEGORIES:Ladies Competitions
END:VEVENT
BEGIN:VEVENT
DTSTART;VALUE=DATE:20240818
DTEND;VALUE=DATE:20240819
DTSTAMP:20260424T173504
CREATED:20240122T115651Z
LAST-MODIFIED:20240122T115651Z
UID:7637-1723939200-1724025599@www.machynys.com
SUMMARY:Sunday Stableford
DESCRIPTION:
URL:https://www.machynys.com/event/sunday-stableford-16/
CATEGORIES:Club Competition,Ladies Competitions
END:VEVENT
BEGIN:VEVENT
DTSTART;VALUE=DATE:20240817
DTEND;VALUE=DATE:20240818
DTSTAMP:20260424T173504
CREATED:20240122T115622Z
LAST-MODIFIED:20240122T115622Z
UID:7635-1723852800-1723939199@www.machynys.com
SUMMARY:Ladies Centenary Greensomes Qualifier
DESCRIPTION:
URL:https://www.machynys.com/event/ladies-centenary-greensomes-qualifier/
CATEGORIES:Ladies Competitions
END:VEVENT
BEGIN:VEVENT
DTSTART;VALUE=DATE:20240814
DTEND;VALUE=DATE:20240815
DTSTAMP:20260424T173504
CREATED:20240122T115030Z
LAST-MODIFIED:20240122T115043Z
UID:7629-1723593600-1723679999@www.machynys.com
SUMMARY:Summer League Round 20
DESCRIPTION:
URL:https://www.machynys.com/event/summer-league-round-20/
CATEGORIES:Club Competition,Ladies Competitions
END:VEVENT
BEGIN:VEVENT
DTSTART;VALUE=DATE:20240811
DTEND;VALUE=DATE:20240812
DTSTAMP:20260424T173504
CREATED:20240122T115001Z
LAST-MODIFIED:20240122T115001Z
UID:7627-1723334400-1723420799@www.machynys.com
SUMMARY:Ladies Stableford
DESCRIPTION:
URL:https://www.machynys.com/event/ladies-stableford-11/
CATEGORIES:Ladies Competitions
END:VEVENT
BEGIN:VEVENT
DTSTART;VALUE=DATE:20240810
DTEND;VALUE=DATE:20240811
DTSTAMP:20260424T173504
CREATED:20240122T114721Z
LAST-MODIFIED:20240122T114721Z
UID:7625-1723248000-1723334399@www.machynys.com
SUMMARY:Ladies Stableford
DESCRIPTION:
URL:https://www.machynys.com/event/ladies-stableford-10/
CATEGORIES:Ladies Competitions
END:VEVENT
BEGIN:VEVENT
DTSTART;VALUE=DATE:20240807
DTEND;VALUE=DATE:20240808
DTSTAMP:20260424T173504
CREATED:20240122T114409Z
LAST-MODIFIED:20240122T114409Z
UID:7617-1722988800-1723075199@www.machynys.com
SUMMARY:Summer League Round 19
DESCRIPTION:
URL:https://www.machynys.com/event/summer-league-round-19/
CATEGORIES:Club Competition,Ladies Competitions
END:VEVENT
BEGIN:VEVENT
DTSTART;VALUE=DATE:20240804
DTEND;VALUE=DATE:20240805
DTSTAMP:20260424T173504
CREATED:20240122T114330Z
LAST-MODIFIED:20240122T114330Z
UID:7615-1722729600-1722815999@www.machynys.com
SUMMARY:Sunday Stableford
DESCRIPTION:
URL:https://www.machynys.com/event/sunday-stableford-15/
CATEGORIES:Championships,Ladies Competitions
END:VEVENT
BEGIN:VEVENT
DTSTART;VALUE=DATE:20240804
DTEND;VALUE=DATE:20240805
DTSTAMP:20260424T173504
CREATED:20240122T114302Z
LAST-MODIFIED:20240122T114302Z
UID:7613-1722729600-1722815999@www.machynys.com
SUMMARY:Senior & Ladies Club Championships
DESCRIPTION:
URL:https://www.machynys.com/event/senior-ladies-club-championships/
CATEGORIES:Championships,Club Competition,Ladies Competitions
END:VEVENT
BEGIN:VEVENT
DTSTART;VALUE=DATE:20240803
DTEND;VALUE=DATE:20240804
DTSTAMP:20260424T173504
CREATED:20240122T114211Z
LAST-MODIFIED:20240122T114211Z
UID:7611-1722643200-1722729599@www.machynys.com
SUMMARY:Ladies Stableford
DESCRIPTION:
URL:https://www.machynys.com/event/ladies-stableford-9/
CATEGORIES:Ladies Competitions
END:VEVENT
BEGIN:VEVENT
DTSTART;VALUE=DATE:20240802
DTEND;VALUE=DATE:20240803
DTSTAMP:20260424T173504
CREATED:20240122T114111Z
LAST-MODIFIED:20240122T114111Z
UID:7607-1722556800-1722643199@www.machynys.com
SUMMARY:Ladies C&P vs Haverfordwest - AWAY
DESCRIPTION:
URL:https://www.machynys.com/event/ladies-cp-vs-haverfordwest-away/
CATEGORIES:Ladies C&P,Ladies Competitions
END:VEVENT
BEGIN:VEVENT
DTSTART;VALUE=DATE:20240731
DTEND;VALUE=DATE:20240801
DTSTAMP:20260424T173504
CREATED:20240122T113157Z
LAST-MODIFIED:20240122T113157Z
UID:7601-1722384000-1722470399@www.machynys.com
SUMMARY:Summer League Round 18
DESCRIPTION:
URL:https://www.machynys.com/event/summer-league-round-18/
CATEGORIES:Championships,Ladies Competitions
END:VEVENT
BEGIN:VEVENT
DTSTART;VALUE=DATE:20240728
DTEND;VALUE=DATE:20240729
DTSTAMP:20260424T173504
CREATED:20240122T112915Z
LAST-MODIFIED:20240122T112915Z
UID:7597-1722124800-1722211199@www.machynys.com
SUMMARY:Ladies C&P vs Newport Links - AWAY
DESCRIPTION:
URL:https://www.machynys.com/event/ladies-cp-vs-newport-links-away-2/
CATEGORIES:Ladies C&P,Ladies Competitions
END:VEVENT
BEGIN:VEVENT
DTSTART;VALUE=DATE:20240728
DTEND;VALUE=DATE:20240729
DTSTAMP:20260424T173504
CREATED:20240122T112748Z
LAST-MODIFIED:20240122T112748Z
UID:7595-1722124800-1722211199@www.machynys.com
SUMMARY:Sunday Stableford
DESCRIPTION:
URL:https://www.machynys.com/event/sunday-stableford-14/
CATEGORIES:Championships,Ladies Competitions
END:VEVENT
END:VCALENDAR