BEGIN:VCALENDAR
VERSION:2.0
PRODID:-//Machynys Peninsula Golf Club and Premier Spa - ECPv6.15.20//NONSGML v1.0//EN
CALSCALE:GREGORIAN
METHOD:PUBLISH
X-WR-CALNAME:Machynys Peninsula Golf Club and Premier Spa
X-ORIGINAL-URL:https://www.machynys.com
X-WR-CALDESC:Events for Machynys Peninsula Golf Club and Premier Spa
REFRESH-INTERVAL;VALUE=DURATION:PT1H
X-Robots-Tag:noindex
X-PUBLISHED-TTL:PT1H
BEGIN:VTIMEZONE
TZID:UTC
BEGIN:STANDARD
TZOFFSETFROM:+0000
TZOFFSETTO:+0000
TZNAME:UTC
DTSTART:20230101T000000
END:STANDARD
END:VTIMEZONE
BEGIN:VEVENT
DTSTART;VALUE=DATE:20241015
DTEND;VALUE=DATE:20241016
DTSTAMP:20260424T214237
CREATED:20240122T124922Z
LAST-MODIFIED:20240122T124922Z
UID:7713-1728950400-1729036799@www.machynys.com
SUMMARY:Mizuno Pairs
DESCRIPTION:
URL:https://www.machynys.com/event/mizuno-pairs/
CATEGORIES:External Event
END:VEVENT
BEGIN:VEVENT
DTSTART;VALUE=DATE:20240808
DTEND;VALUE=DATE:20240809
DTSTAMP:20260424T214237
CREATED:20240122T114529Z
LAST-MODIFIED:20240122T114529Z
UID:7621-1723075200-1723161599@www.machynys.com
SUMMARY:Top 100 Tour
DESCRIPTION:
URL:https://www.machynys.com/event/top-100-tour/
CATEGORIES:External Event
END:VEVENT
BEGIN:VEVENT
DTSTART;VALUE=DATE:20240623
DTEND;VALUE=DATE:20240624
DTSTAMP:20260424T214237
CREATED:20240120T144926Z
LAST-MODIFIED:20240120T144926Z
UID:7524-1719100800-1719187199@www.machynys.com
SUMMARY:Dyfed County Championships
DESCRIPTION:
URL:https://www.machynys.com/event/dyfed-county-championships/
CATEGORIES:External Event
END:VEVENT
BEGIN:VEVENT
DTSTART;VALUE=DATE:20240621
DTEND;VALUE=DATE:20240622
DTSTAMP:20260424T214237
CREATED:20240120T144724Z
LAST-MODIFIED:20240120T144724Z
UID:7516-1718928000-1719014399@www.machynys.com
SUMMARY:Gerallt Davies Foundation
DESCRIPTION:
URL:https://www.machynys.com/event/gerallt-davies-foundation/
CATEGORIES:External Event
END:VEVENT
BEGIN:VEVENT
DTSTART;VALUE=DATE:20240523
DTEND;VALUE=DATE:20240524
DTSTAMP:20260424T214237
CREATED:20240120T141933Z
LAST-MODIFIED:20240120T141933Z
UID:7449-1716422400-1716508799@www.machynys.com
SUMMARY:LBS Golf Day
DESCRIPTION:
URL:https://www.machynys.com/event/lbs-golf-day/
CATEGORIES:External Event
END:VEVENT
BEGIN:VEVENT
DTSTART;VALUE=DATE:20240425
DTEND;VALUE=DATE:20240426
DTSTAMP:20260424T214237
CREATED:20240120T134843Z
LAST-MODIFIED:20240120T134843Z
UID:7392-1714003200-1714089599@www.machynys.com
SUMMARY:Great Days Golf
DESCRIPTION:
URL:https://www.machynys.com/event/great-days-golf-2/
CATEGORIES:External Event
END:VEVENT
BEGIN:VEVENT
DTSTART;VALUE=DATE:20240321
DTEND;VALUE=DATE:20240322
DTSTAMP:20260424T214237
CREATED:20240120T132658Z
LAST-MODIFIED:20240120T132658Z
UID:7339-1710979200-1711065599@www.machynys.com
SUMMARY:Great Days Golf
DESCRIPTION:
URL:https://www.machynys.com/event/great-days-golf/
CATEGORIES:External Event
END:VEVENT
END:VCALENDAR